BEGIN:VCALENDAR
VERSION:2.0
PRODID:-//Pender Island Chamber of Commerce - ECPv6.15.0.1//NONSGML v1.0//EN
CALSCALE:GREGORIAN
METHOD:PUBLISH
X-ORIGINAL-URL:https://penderislandchamber.com
X-WR-CALDESC:Events for Pender Island Chamber of Commerce
REFRESH-INTERVAL;VALUE=DURATION:PT1H
X-Robots-Tag:noindex
X-PUBLISHED-TTL:PT1H
BEGIN:VTIMEZONE
TZID:America/Vancouver
BEGIN:DAYLIGHT
TZOFFSETFROM:-0800
TZOFFSETTO:-0700
TZNAME:PDT
DTSTART:20260308T100000
END:DAYLIGHT
BEGIN:STANDARD
TZOFFSETFROM:-0700
TZOFFSETTO:-0800
TZNAME:PST
DTSTART:20261101T090000
END:STANDARD
END:VTIMEZONE
BEGIN:VEVENT
DTSTART;VALUE=DATE:20260425
DTEND;VALUE=DATE:20260426
DTSTAMP:20260419T214433
CREATED:20260324T200140Z
LAST-MODIFIED:20260324T200140Z
UID:6183-1777075200-1777161599@penderislandchamber.com
SUMMARY:Earth Day Cleanup Pender Island
DESCRIPTION:
URL:https://penderislandchamber.com/event/earth-day-cleanup-pender-island/
END:VEVENT
END:VCALENDAR