BEGIN:VCALENDAR
VERSION:2.0
PRODID:-//Pender Island Chamber of Commerce - ECPv6.15.0.1//NONSGML v1.0//EN
CALSCALE:GREGORIAN
METHOD:PUBLISH
X-ORIGINAL-URL:https://penderislandchamber.com
X-WR-CALDESC:Events for Pender Island Chamber of Commerce
REFRESH-INTERVAL;VALUE=DURATION:PT1H
X-Robots-Tag:noindex
X-PUBLISHED-TTL:PT1H
BEGIN:VTIMEZONE
TZID:America/Vancouver
BEGIN:DAYLIGHT
TZOFFSETFROM:-0800
TZOFFSETTO:-0700
TZNAME:PDT
DTSTART:20260308T100000
END:DAYLIGHT
BEGIN:STANDARD
TZOFFSETFROM:-0700
TZOFFSETTO:-0800
TZNAME:PST
DTSTART:20261101T090000
END:STANDARD
END:VTIMEZONE
BEGIN:VEVENT
DTSTART;VALUE=DATE:20260521
DTEND;VALUE=DATE:20260525
DTSTAMP:20260420T005444
CREATED:20260129T211635Z
LAST-MODIFIED:20260129T211635Z
UID:6133-1779321600-1779667199@penderislandchamber.com
SUMMARY:2026 Pender Classic Disc Golf Tournament
DESCRIPTION:
URL:https://penderislandchamber.com/event/2026-pender-classic-disc-golf-tournament/
LOCATION:Golf Island Disc Park
CATEGORIES:Non-Recurring
END:VEVENT
END:VCALENDAR