BEGIN:VCALENDAR
VERSION:2.0
PRODID:-//Pender Island Chamber of Commerce - ECPv6.15.0.1//NONSGML v1.0//EN
CALSCALE:GREGORIAN
METHOD:PUBLISH
X-WR-CALNAME:Pender Island Chamber of Commerce
X-ORIGINAL-URL:https://penderislandchamber.com
X-WR-CALDESC:Events for Pender Island Chamber of Commerce
REFRESH-INTERVAL;VALUE=DURATION:PT1H
X-Robots-Tag:noindex
X-PUBLISHED-TTL:PT1H
BEGIN:VTIMEZONE
TZID:America/Vancouver
BEGIN:DAYLIGHT
TZOFFSETFROM:-0800
TZOFFSETTO:-0700
TZNAME:PDT
DTSTART:20260308T100000
END:DAYLIGHT
BEGIN:STANDARD
TZOFFSETFROM:-0700
TZOFFSETTO:-0800
TZNAME:PST
DTSTART:20261101T090000
END:STANDARD
END:VTIMEZONE
BEGIN:VEVENT
DTSTART;VALUE=DATE:20260926
DTEND;VALUE=DATE:20260928
DTSTAMP:20260420T074400
CREATED:20250729T180101Z
LAST-MODIFIED:20260326T203631Z
UID:5465-1790380800-1790553599@penderislandchamber.com
SUMMARY:Fall Crawl Studio Tour
DESCRIPTION:The 8th annual Fall Crawl Studio Tour is happening September 26 and 27\, 2026! This is your annual opportunity to enjoy touring the studios of local artists and getting up close and personal with their work and processes (the tour is completely free!). \nMaps will be available at Talisman Books and the Visitors Centre in early September. 
URL:https://penderislandchamber.com/event/fall-crawl/
LOCATION:Various Venues
CATEGORIES:Non-Recurring
END:VEVENT
END:VCALENDAR