BEGIN:VCALENDAR
VERSION:2.0
PRODID:-//Pender Island Chamber of Commerce - ECPv6.15.0.1//NONSGML v1.0//EN
CALSCALE:GREGORIAN
METHOD:PUBLISH
X-WR-CALNAME:Pender Island Chamber of Commerce
X-ORIGINAL-URL:https://penderislandchamber.com
X-WR-CALDESC:Events for Pender Island Chamber of Commerce
REFRESH-INTERVAL;VALUE=DURATION:PT1H
X-Robots-Tag:noindex
X-PUBLISHED-TTL:PT1H
BEGIN:VTIMEZONE
TZID:America/Vancouver
BEGIN:DAYLIGHT
TZOFFSETFROM:-0800
TZOFFSETTO:-0700
TZNAME:PDT
DTSTART:20260308T100000
END:DAYLIGHT
BEGIN:STANDARD
TZOFFSETFROM:-0700
TZOFFSETTO:-0800
TZNAME:PST
DTSTART:20261101T090000
END:STANDARD
END:VTIMEZONE
BEGIN:VEVENT
DTSTART;VALUE=DATE:20260418
DTEND;VALUE=DATE:20260419
DTSTAMP:20260420T010403
CREATED:20260301T183049Z
LAST-MODIFIED:20260301T183049Z
UID:6164-1776470400-1776556799@penderislandchamber.com
SUMMARY:Volunteer Fair
DESCRIPTION:
URL:https://penderislandchamber.com/event/volunteer-fair/
LOCATION:Community Hall\, 4418 Bedwell Harbour Rd\, Pender Island\, British Columbia\, V0N2M1\, Canada
CATEGORIES:Non-Recurring
END:VEVENT
BEGIN:VEVENT
DTSTART;TZID=America/Vancouver:20260411T170000
DTEND;TZID=America/Vancouver:20260411T200000
DTSTAMP:20260420T010403
CREATED:20260227T001628Z
LAST-MODIFIED:20260227T215055Z
UID:6149-1775926800-1775937600@penderislandchamber.com
SUMMARY:Remote Bowls of Hope Gala
DESCRIPTION:
URL:https://penderislandchamber.com/event/remote-bowls-of-hope-gala/
LOCATION:Community Hall\, 4418 Bedwell Harbour Rd\, Pender Island\, British Columbia\, V0N2M1\, Canada
CATEGORIES:Non-Recurring
ATTACH;FMTTYPE=image/jpeg:https://penderislandchamber.com/wp-content/uploads/2026/02/Bowls2026.jpg
END:VEVENT
BEGIN:VEVENT
DTSTART;VALUE=DATE:20260405
DTEND;VALUE=DATE:20260406
DTSTAMP:20260420T010403
CREATED:20260326T200312Z
LAST-MODIFIED:20260326T200312Z
UID:6188-1775347200-1775433599@penderislandchamber.com
SUMMARY:South Pender Easter Art Walk
DESCRIPTION:
URL:https://penderislandchamber.com/event/south-pender-easter-art-walk/
LOCATION:South Pender Island (various studios)
CATEGORIES:Non-Recurring
END:VEVENT
BEGIN:VEVENT
DTSTART;TZID=America/Vancouver:20260404T100000
DTEND;TZID=America/Vancouver:20260404T130000
DTSTAMP:20260420T010403
CREATED:20260324T195758Z
LAST-MODIFIED:20260324T195758Z
UID:6180-1775296800-1775307600@penderislandchamber.com
SUMMARY:Easter Fun @ The Driftwood Centre
DESCRIPTION:
URL:https://penderislandchamber.com/event/easter-fun-the-driftwood-centre/
LOCATION:Driftwood Centre\, 4605 Bedwell Harbour Rd\, Pender Island\, British Columbia\, V0N2M1\, Canada
CATEGORIES:Non-Recurring
ATTACH;FMTTYPE=image/jpeg:https://penderislandchamber.com/wp-content/uploads/2026/03/Easter.jpg
END:VEVENT
BEGIN:VEVENT
DTSTART;TZID=America/Vancouver:20260328T190000
DTEND;TZID=America/Vancouver:20260328T200000
DTSTAMP:20260420T010403
CREATED:20260317T213030Z
LAST-MODIFIED:20260326T203934Z
UID:6177-1774724400-1774728000@penderislandchamber.com
SUMMARY:Short Film: A Trail's Journey
DESCRIPTION:
URL:https://penderislandchamber.com/event/short-film-a-trails-journey/
LOCATION:Port Browning Marina Resort
CATEGORIES:Non-Recurring
ATTACH;FMTTYPE=image/png:https://penderislandchamber.com/wp-content/uploads/2026/03/TrailsJourney.png
END:VEVENT
END:VCALENDAR