BEGIN:VCALENDAR
VERSION:2.0
PRODID:-//Pender Island Chamber of Commerce - ECPv6.15.0.1//NONSGML v1.0//EN
CALSCALE:GREGORIAN
METHOD:PUBLISH
X-ORIGINAL-URL:https://penderislandchamber.com
X-WR-CALDESC:Events for Pender Island Chamber of Commerce
REFRESH-INTERVAL;VALUE=DURATION:PT1H
X-Robots-Tag:noindex
X-PUBLISHED-TTL:PT1H
BEGIN:VTIMEZONE
TZID:America/Vancouver
BEGIN:DAYLIGHT
TZOFFSETFROM:-0800
TZOFFSETTO:-0700
TZNAME:PDT
DTSTART:20260308T100000
END:DAYLIGHT
BEGIN:STANDARD
TZOFFSETFROM:-0700
TZOFFSETTO:-0800
TZNAME:PST
DTSTART:20261101T090000
END:STANDARD
END:VTIMEZONE
BEGIN:VEVENT
DTSTART;VALUE=DATE:20260620
DTEND;VALUE=DATE:20260621
DTSTAMP:20260420T005528
CREATED:20260317T171518Z
LAST-MODIFIED:20260317T171923Z
UID:6174-1781913600-1781999999@penderislandchamber.com
SUMMARY:Run\, Walk\, Wheel for Wellness
DESCRIPTION:
URL:https://penderislandchamber.com/event/run-walk-wheel-for-wellness/
LOCATION:Schooner Way Trail\, Pender Island\, BC\, Canada
END:VEVENT
BEGIN:VEVENT
DTSTART;VALUE=DATE:20260620
DTEND;VALUE=DATE:20260622
DTSTAMP:20260420T005528
CREATED:20260227T213755Z
LAST-MODIFIED:20260402T174034Z
UID:6157-1781913600-1782086399@penderislandchamber.com
SUMMARY:Tour des Iles Festival
DESCRIPTION:
URL:https://penderislandchamber.com/event/tour-des-iles-festival/
CATEGORIES:Non-Recurring
END:VEVENT
END:VCALENDAR